BEGIN:VCALENDAR
VERSION:2.0
METHOD:PUBLISH
PRODID:-//Accessible Web Design//My Calendar//http://www.joedolson.com//v//EN';
BEGIN:VEVENT
UID:249-237
LOCATION:
SUMMARY:定休日
DTSTAMP:20260422T000000
ORGANIZER;CN=carnival:MAILTO:carnival@stg.caniva.jp
DTSTART:20260422T000000
DTEND:20260422T010000
CATEGORIES:close
URL;VALUE=URI:http://caniva.jp/mc-events/定休日-106/?mc_id=249
DESCRIPTION:
END:VEVENT
END:VCALENDAR