BEGIN:VCALENDAR
VERSION:2.0
METHOD:PUBLISH
PRODID:-//Accessible Web Design//My Calendar//http://www.joedolson.com//v//EN';
BEGIN:VEVENT
UID:262-250
LOCATION:
SUMMARY:期間限定　　　　未使用車大特価！
DTSTAMP:20260307
ORGANIZER;CN=carnival:MAILTO:carnival@stg.caniva.jp
DTSTART:20260307
DTEND:20260311
CATEGORIES:event
URL;VALUE=URI:http://caniva.jp/mc-events/期間限定　　　　未使用車大特価！/?mc_id=262
DESCRIPTION:
X-FUNAMBOL-ALLDAY: 1
X-MICROSOFT-CDO-ALLDAYEVENT: TRUE

END:VEVENT
END:VCALENDAR