BEGIN:VCALENDAR
VERSION:2.0
METHOD:PUBLISH
PRODID:-//Accessible Web Design//My Calendar//http://www.joedolson.com//v//EN';
BEGIN:VEVENT
UID:263-251
LOCATION:
SUMMARY:期間限定　　　　未使用車大特価！
DTSTAMP:20260312T000000
ORGANIZER;CN=carnival:MAILTO:carnival@stg.caniva.jp
DTSTART:20260312T000000
DTEND:20260317T010000
CATEGORIES:event
URL;VALUE=URI:http://caniva.jp/mc-events/期間限定　　　　未使用車大特価！-2/?mc_id=263
DESCRIPTION:
END:VEVENT
END:VCALENDAR